BEGIN:VCALENDAR
VERSION:2.0
PRODID:-//ChamberMaster//Event Calendar 2.0//EN
METHOD:PUBLISH
X-PUBLISHED-TTL:P3D
REFRESH-INTERVAL:P3D
CALSCALE:GREGORIAN
BEGIN:VEVENT
DTSTART;VALUE=DATE:20120821
DTEND;VALUE=DATE:20120822
TRANSP:TRANSPARENT
X-MICROSOFT-CDO-ALLDAYEVENT:TRUE
SUMMARY:School Starts
DESCRIPTION:FIRST DAY OF SCHOOL!
X-ALT-DESC;FMTTYPE=text/html:<span style="font-size: 28px"><strong>FIRST DAY OF SCHOOL!</strong></span>
LOCATION:
UID:e.125.4879
SEQUENCE:3
DTSTAMP:20260421T103038Z
URL:https://members.tooelechamber.com/events/details/school-starts-08-21-2012-4879
END:VEVENT

END:VCALENDAR
