BEGIN:VCALENDAR
VERSION:2.0
PRODID:-//ChamberMaster//Event Calendar 2.0//EN
METHOD:PUBLISH
X-PUBLISHED-TTL:P3D
REFRESH-INTERVAL:P3D
CALSCALE:GREGORIAN
BEGIN:VEVENT
DTSTART;VALUE=DATE:20090417
DTEND;VALUE=DATE:20090418
TRANSP:TRANSPARENT
X-MICROSOFT-CDO-ALLDAYEVENT:TRUE
SUMMARY:Scrapbooking Class
DESCRIPTION:Space is limited. Pre-registration is required Scrapbooking Free-For All Friday\, April 17\, 2009 from 7-10 p.m.Dow James Building (438 W. 400 N.\, Tooele)FREE-No Cost!Pre-registration: 843-2142
X-ALT-DESC;FMTTYPE=text/html:<div><font face="Jokerman-Regular" size="7"><font face="Jokerman-Regular" size="7"><p>&nbsp\;</p></font></font></div><p><font face="JuiceITC-Regular" size="5"><font face="JuiceITC-Regular" size="5"><font face="Jokerman-Regular" size="7"><font face="Jokerman-Regular" size="7"> </font></font><font face="JuiceITC-Regular">Space is limited. Pre-registration is required</font></font></font><p>&nbsp\;</p></p><p align="left">Scrapbooking Free-For All</p><p>&nbsp\;</p><p align="left">Friday\, April 17\, 2009 from 7-10 p.m.</p><p align="left">Dow James Building (438 W. 400 N.\, Tooele)</p><p align="left">FREE-No Cost!</p><p>Pre-registration: 843-2142</p><p>&nbsp\;</p>
LOCATION:
UID:e.125.1237
SEQUENCE:3
DTSTAMP:20260424T005103Z
URL:https://members.tooelechamber.com/events/details/scrapbooking-class-04-17-2009-1237
END:VEVENT

END:VCALENDAR
