BEGIN:VCALENDAR
VERSION:2.0
PRODID:-//ChamberMaster//Event Calendar 2.0//EN
METHOD:PUBLISH
X-PUBLISHED-TTL:P3D
REFRESH-INTERVAL:P3D
CALSCALE:GREGORIAN
BEGIN:VEVENT
DTSTART;VALUE=DATE:20100130
DTEND;VALUE=DATE:20100131
TRANSP:TRANSPARENT
X-MICROSOFT-CDO-ALLDAYEVENT:TRUE
SUMMARY:SECOND ANNUAL SMCS CAPITAL CAMPAIGN BENEFIT
DESCRIPTION:SECOND ANNUAL SMCS CAPITAL CAMPAIGN BENEFIT SATURDAY - JANUARY 30\, 2010 7:00 P.M. GUEST SPEAKER MOST REVEREND JOHN C. WESTER BISHOP OF SALT LAKE DIOCESE DINNER CATERED BY SOSTANZA's & JIM'S FAMILY RESTAURANT DINNER ENTREES CHOICE OF: PRIME RIB\, SALMON OR VEGETARIAN PLATE *All Proceeds benefit the new building fund. LIMITED SEATING $ 50.00 PER PERSON OR $350.00 FOR A TABLE OF EIGHT TICKETS AVAILABLE IN SCHOOL OFFICE MONDAY THROUGH FRIDAY 8:30 AM     TO    3:30 PM Please purchase your tickets by contacting the school office by Monday\, January 25th. (435)882-0081
X-ALT-DESC;FMTTYPE=text/html:<div><div v:shape="_x0000_s1026"><div style="text-align: center"><span style="font-size: 16pt\; color: black"><i>SECOND&nbsp\;ANNUAL&nbsp\;SMCS CAPITAL&nbsp\;CAMPAIGN&nbsp\;BENEFIT </i></span></div><div style="text-align: center"><span style="font-size: 16pt\; color: black"><i>SATURDAY&nbsp\;-&nbsp\;JANUARY 30\, 2010 </i></span></div><div style="text-align: center"><span style="font-size: 16pt\; color: black"><i>7:00 P.M. </i></span></div><div style="text-align: center"><span style="font-size: 16pt\; color: black"><i>GUEST&nbsp\;SPEAKER </i></span></div><div style="text-align: center"><span style="font-size: 16pt\; color: black"><i>MOST&nbsp\;REVEREND JOHN&nbsp\;C.&nbsp\;WESTER </i></span></div><div style="text-align: center"><span style="font-size: 16pt\; color: black"><i>BISHOP&nbsp\;OF&nbsp\;SALT&nbsp\;LAKE&nbsp\;DIOCESE </i></span></div><div style="text-align: center"><span style="font-size: 16pt\; color: black"><i>DINNER&nbsp\;CATERED&nbsp\;BY </i></span></div><div style="text-align: center"><span style="font-size: 16pt\; color: black"><i>SOSTANZA&rsquo\;s &amp\; </i></span></div><div style="text-align: center"><span style="font-size: 16pt\; color: black"><i>JIM&rsquo\;S&nbsp\;FAMILY&nbsp\;RESTAURANT </i></span></div><div style="text-align: center"><span style="font-size: 16pt\; color: black"><i>DINNER&nbsp\;ENTREES CHOICE&nbsp\;OF: </i></span></div><div style="text-align: center"><span style="font-size: 16pt\; color: black"><i>PRIME&nbsp\;RIB\, SALMON </i></span></div><div style="text-align: center"><span style="font-size: 16pt\; color: black"><i>OR </i></span></div><div style="text-align: center"><span style="font-size: 16pt\; color: black"><i>VEGETARIAN&nbsp\;PLATE </i></span></div><div style="text-align: center"><span style="font-size: 16pt\; color: black"><i>*All Proceeds benefit the new building fund. </i></span></div><div style="text-align: center"><span style="font-size: 16pt\; color: black"><i>LIMITED&nbsp\;SEATING </i></span></div><div style="text-align: center"><span style="font-size: 16pt\; color: black"><i>$ 50.00&nbsp\;PER&nbsp\;PERSON </i></span></div><div style="text-align: center"><span style="font-size: 16pt\; color: black"><i>OR </i></span></div><div style="text-align: center"><span style="font-size: 16pt\; color: black"><i>$350.00&nbsp\;FOR&nbsp\;A&nbsp\;TABLE&nbsp\;OF&nbsp\;EIGHT </i></span></div><div style="text-align: center"><span style="font-size: 16pt\; color: black"><i>TICKETS&nbsp\;AVAILABLE&nbsp\;IN&nbsp\;SCHOOL&nbsp\;OFFICE </i></span></div><div style="text-align: center"><span style="font-size: 16pt\; color: black"><i>MONDAY&nbsp\;THROUGH&nbsp\;FRIDAY </i></span></div><div style="text-align: center"><span style="font-size: 16pt\; color: black"><i>8:30 AM<span>&nbsp\;&nbsp\;&nbsp\;&nbsp\; TO&nbsp\;&nbsp\;&nbsp\; 3:30 PM </span></i></span></div><div style="text-align: center"><span style="font-size: 16pt\; color: black"><i>Please purchase your tickets by contacting the school office by Monday\, </i></span><span style="font-size: 16pt\; color: black"><i>January 25</i></span><span style="font-size: 10pt\; color: black\; position: relative\; top: -0.45em"><i>th</i></span><span style="font-size: 16pt\; color: black"><i>. </i></span></div><div style="text-align: center"><span style="font-size: 16pt\; color: black"><i>(435)882-0081 </i></span></div></div></div>
LOCATION:
UID:e.125.2627
SEQUENCE:3
DTSTAMP:20260423T104230Z
URL:https://members.tooelechamber.com/events/details/second-annual-smcs-capital-campaign-benefit-01-30-2010-2627
END:VEVENT

END:VCALENDAR
