BEGIN:VCALENDAR
VERSION:2.0
PRODID:-//ChamberMaster//Event Calendar 2.0//EN
METHOD:PUBLISH
X-PUBLISHED-TTL:P3D
REFRESH-INTERVAL:P3D
CALSCALE:GREGORIAN
BEGIN:VEVENT
DTSTART:20111221T190000Z
DTEND:20111221T200000Z
X-MICROSOFT-CDO-ALLDAYEVENT:FALSE
SUMMARY:Setting up an Automatic Computer Back-up System
DESCRIPTION:Mini-Lesson\n\n	Lunch N Learn Series\n\n	Presented by: Tooele Applied Technology College\n\n	66 West Vine Street\, Tooele\n\n	Free to the public\, includes pizza lunch!\n\n	Limited seating\, RSVP's accepted for accurate lunch count\n\n	 Setting Up an Automatic Computer Back-up System with Jay Olson\n\n	Learn how to program your computer to automatically backup so your precious documents don't disappear if your hard drive dies
X-ALT-DESC;FMTTYPE=text/html:<p style="text-align: center">\n	<span style="font-size: 18px">Mini-Lesson<br />\n	Lunch N Learn Series<br />\n	Presented by: Tooele Applied Technology College<br />\n	66 West Vine Street\, Tooele<br />\n	Free to the public\, includes pizza lunch!<br />\n	Limited seating\, RSVP&#39\;s accepted for accurate lunch count<br />\n	<span _fck_bookmark="1" style="display: none">&nbsp\;</span>Setting Up an Automatic Computer Back-up System with Jay Olson<br />\n	Learn how to program your computer to automatically backup so&nbsp\;your precious documents don&#39\;t disappear if your hard drive dies </span></p>\n
LOCATION:
UID:e.125.3594
SEQUENCE:3
DTSTAMP:20260421T220112Z
URL:https://members.tooelechamber.com/events/details/setting-up-an-automatic-computer-back-up-system-12-21-2011-3594
END:VEVENT

END:VCALENDAR
