BEGIN:VCALENDAR
VERSION:2.0
PRODID:-//ChamberMaster//Event Calendar 2.0//EN
METHOD:PUBLISH
X-PUBLISHED-TTL:P3D
REFRESH-INTERVAL:P3D
CALSCALE:GREGORIAN
BEGIN:VEVENT
DTSTART:20070531T010000Z
DTEND:20070531T023000Z
X-MICROSOFT-CDO-ALLDAYEVENT:FALSE
SUMMARY:ShopTooele Networking Meeting
DESCRIPTION:Win a doorprize or the opportunity to host a future Networking Party featuring your business!
X-ALT-DESC;FMTTYPE=text/html:Win a doorprize or the opportunity to host a future Networking Party featuring your business!
LOCATION:Delicious! 295 North Main Street
UID:e.125.76
SEQUENCE:3
DTSTAMP:20260425T132522Z
URL:https://members.tooelechamber.com/events/details/shoptooele-networking-meeting-05-30-2007-76
END:VEVENT

END:VCALENDAR
