BEGIN:VCALENDAR
VERSION:2.0
PRODID:-//ChamberMaster//Event Calendar 2.0//EN
METHOD:PUBLISH
X-PUBLISHED-TTL:P3D
REFRESH-INTERVAL:P3D
CALSCALE:GREGORIAN
BEGIN:VEVENT
DTSTART:20070426T010000Z
DTEND:20070426T023000Z
X-MICROSOFT-CDO-ALLDAYEVENT:FALSE
SUMMARY:ShopTooele Networking Party
DESCRIPTION:Please note corrected location
X-ALT-DESC;FMTTYPE=text/html:Please note corrected location
LOCATION:434 South Coleman Street
UID:e.125.78
SEQUENCE:3
DTSTAMP:20260425T143238Z
URL:https://members.tooelechamber.com/events/details/shoptooele-networking-party-04-25-2007-78
END:VEVENT

END:VCALENDAR
