BEGIN:VCALENDAR
VERSION:2.0
PRODID:-//ChamberMaster//Event Calendar 2.0//EN
METHOD:PUBLISH
X-PUBLISHED-TTL:P3D
REFRESH-INTERVAL:P3D
CALSCALE:GREGORIAN
BEGIN:VEVENT
DTSTART;VALUE=DATE:20140519
DTEND;VALUE=DATE:20140521
TRANSP:TRANSPARENT
X-MICROSOFT-CDO-ALLDAYEVENT:TRUE
SUMMARY:shut day for delinquent accounts
DESCRIPTION:
X-ALT-DESC;FMTTYPE=text/html:
LOCATION:
UID:e.125.5648
SEQUENCE:3
DTSTAMP:20260419T181611Z
URL:https://members.tooelechamber.com/events/details/shut-day-for-delinquent-accounts-05-19-2014-5648
END:VEVENT

END:VCALENDAR
