BEGIN:VCALENDAR
VERSION:2.0
PRODID:-//ChamberMaster//Event Calendar 2.0//EN
METHOD:PUBLISH
X-PUBLISHED-TTL:P3D
REFRESH-INTERVAL:P3D
CALSCALE:GREGORIAN
BEGIN:VEVENT
DTSTART;VALUE=DATE:20140619
DTEND;VALUE=DATE:20140621
TRANSP:TRANSPARENT
X-MICROSOFT-CDO-ALLDAYEVENT:TRUE
SUMMARY:shut off day for delinquent accts
DESCRIPTION:delinquent account balances are charged $50 today and will be shut off.
X-ALT-DESC;FMTTYPE=text/html:delinquent account balances are charged $50 today and will be shut off.
LOCATION:
UID:e.125.5635
SEQUENCE:3
DTSTAMP:20260419T181720Z
URL:https://members.tooelechamber.com/events/details/shut-off-day-for-delinquent-accts-06-19-2014-5635
END:VEVENT

END:VCALENDAR
