BEGIN:VCALENDAR
VERSION:2.0
PRODID:-//ChamberMaster//Event Calendar 2.0//EN
METHOD:PUBLISH
X-PUBLISHED-TTL:P3D
REFRESH-INTERVAL:P3D
CALSCALE:GREGORIAN
BEGIN:VEVENT
DTSTART:20110804T190000Z
DTEND:20110804T213000Z
X-MICROSOFT-CDO-ALLDAYEVENT:FALSE
SUMMARY:Skills Identification
DESCRIPTION:Skills Identification:(* Prerequisite: a jobs.utah.gov registration) \n\n	Use online assessment tools to discover your transferrable skills & interests that can be used in all aspects of career management.\n\n	Community Learning Center\n\n	211 South Tooele\, Blvd\, Room 201  \n\n	Register today!\n\n	NO COST!!
X-ALT-DESC;FMTTYPE=text/html:<p align="left">\n	&nbsp\;</p>\n<p>\n	<b><font size="4">Skills Identification</font></b><font face="Arial\,Arial" size="4"><font face="Arial\,Arial" size="4">:</font></font><i><font face="Times New Roman\,Times New Roman" size="3"><font face="Times New Roman\,Times New Roman" size="3">(* Prerequisite: a jobs.utah.gov registration) </font></font></i></p>\n<p>\n	<font face="Arial\,Arial" size="3"><font face="Arial\,Arial" size="3">Use online assessment tools to discover your transferrable skills &amp\; interests that can be used in all aspects of career management.<br />\n	Community Learning Center<br />\n	211 South Tooele\, Blvd\, Room 201&nbsp\;<span _fck_bookmark="1" style="display: none">&nbsp\;</span></font></font></p>\n<p style="text-align: center">\n	Register today!<br />\n	NO COST!!</p>\n
LOCATION:
UID:e.125.3865
SEQUENCE:3
DTSTAMP:20260422T060728Z
URL:https://members.tooelechamber.com/events/details/skills-identification-08-04-2011-3865
END:VEVENT

END:VCALENDAR
