BEGIN:VCALENDAR
VERSION:2.0
PRODID:-//ChamberMaster//Event Calendar 2.0//EN
METHOD:PUBLISH
X-PUBLISHED-TTL:P3D
REFRESH-INTERVAL:P3D
CALSCALE:GREGORIAN
BEGIN:VEVENT
DTSTART;VALUE=DATE:20080425
DTEND;VALUE=DATE:20080428
TRANSP:TRANSPARENT
X-MICROSOFT-CDO-ALLDAYEVENT:TRUE
SUMMARY:Snap-On Stars of Karting Presented by Indy Racing League
DESCRIPTION:Snap-On Stars of Karting Presented by Indy Racing League
X-ALT-DESC;FMTTYPE=text/html:<div>Snap-On Stars of Karting Presented by Indy Racing League</div>
LOCATION:Miller Motorsports Park2901 No. Sheep LaneTooele
UID:e.125.255
SEQUENCE:3
DTSTAMP:20260424T203846Z
URL:https://members.tooelechamber.com/events/details/snap-on-stars-of-karting-presented-by-indy-racing-league-04-25-2008-255
END:VEVENT

END:VCALENDAR
