BEGIN:VCALENDAR
VERSION:2.0
PRODID:-//ChamberMaster//Event Calendar 2.0//EN
METHOD:PUBLISH
X-PUBLISHED-TTL:P3D
REFRESH-INTERVAL:P3D
CALSCALE:GREGORIAN
BEGIN:VEVENT
DTSTART:20080425T190000Z
DTEND:20080425T190000Z
X-MICROSOFT-CDO-ALLDAYEVENT:FALSE
SUMMARY:Special Story Time
DESCRIPTION:Special story time featuring Madeline.Read by Angie WagerApril 25th\, 2008at Tooele City Library128 West Vine Street\, Tooele
X-ALT-DESC;FMTTYPE=text/html:<div>Special story time featuring Madeline.</div><div>Read by Angie Wager</div><div>April 25th\, 2008</div><div>at Tooele City Library</div><div>128 West Vine Street\, Tooele</div>
LOCATION:
UID:e.125.390
SEQUENCE:3
DTSTAMP:20260424T203415Z
URL:https://members.tooelechamber.com/events/details/special-story-time-04-25-2008-390
END:VEVENT

END:VCALENDAR
