BEGIN:VCALENDAR
VERSION:2.0
PRODID:-//ChamberMaster//Event Calendar 2.0//EN
METHOD:PUBLISH
X-PUBLISHED-TTL:P3D
REFRESH-INTERVAL:P3D
CALSCALE:GREGORIAN
BEGIN:VEVENT
DTSTART:20110818T010000Z
DTEND:20110818T030000Z
X-MICROSOFT-CDO-ALLDAYEVENT:FALSE
SUMMARY:St. Marguerite's Catholic School Dedication
DESCRIPTION:St. Marguerite's Catholic School Dedication \n\n	& Ribbon Cutting \n\n	Wednesday\, August 17\, 2011 @ 7pm\n\n	15 South 7th Street\, Tooele
X-ALT-DESC;FMTTYPE=text/html:<p style="text-align: center">\n	<span style="font-size: 24px"><span style="font-family: times new roman"><u><strong>St. Marguerite&#39\;s Catholic School Dedication&nbsp\;<br />\n	&amp\; Ribbon Cutting </strong></u><br />\n	Wednesday\, August 17\, 2011 @ 7pm<br />\n	15 South 7th Street\, Tooele </span></span></p>\n
LOCATION:
UID:e.125.3862
SEQUENCE:3
DTSTAMP:20260422T043705Z
URL:https://members.tooelechamber.com/events/details/st-marguerite-s-catholic-school-dedication-08-17-2011-3862
END:VEVENT

END:VCALENDAR
