BEGIN:VCALENDAR
VERSION:2.0
PRODID:-//ChamberMaster//Event Calendar 2.0//EN
METHOD:PUBLISH
X-PUBLISHED-TTL:P3D
REFRESH-INTERVAL:P3D
CALSCALE:GREGORIAN
BEGIN:VEVENT
DTSTART;VALUE=DATE:20110820
DTEND;VALUE=DATE:20110821
TRANSP:TRANSPARENT
X-MICROSOFT-CDO-ALLDAYEVENT:TRUE
SUMMARY:Stansbury Days
DESCRIPTION:Stansbury Days\n\nSaturday\, August 20\, 2011\n\nContact: 435-843-7512
X-ALT-DESC;FMTTYPE=text/html:Stansbury Days<br />\nSaturday\, August 20\, 2011<br />\nContact: 435-843-7512
LOCATION:
UID:e.125.3565
SEQUENCE:3
DTSTAMP:20260422T061418Z
URL:https://members.tooelechamber.com/events/details/stansbury-days-08-20-2011-3565
END:VEVENT

END:VCALENDAR
