BEGIN:VCALENDAR
VERSION:2.0
PRODID:-//ChamberMaster//Event Calendar 2.0//EN
METHOD:PUBLISH
X-PUBLISHED-TTL:P3D
REFRESH-INTERVAL:P3D
CALSCALE:GREGORIAN
BEGIN:VEVENT
DTSTART:20120320T220000Z
DTEND:20120320T230000Z
X-MICROSOFT-CDO-ALLDAYEVENT:FALSE
SUMMARY:Stansbury Park Improvement District Board Meetings
DESCRIPTION:Stansbury Park Improvement\n\nDistrict Board Meetings\n\n4-5 p.\,m.\n\n30 Plaza\, Stansbury Park
X-ALT-DESC;FMTTYPE=text/html:<span style="font-size: 20px"><strong>Stansbury Park Improvement<br />\nDistrict Board Meetings<br />\n4-5 p.\,m.<br />\n30 Plaza\, Stansbury Park</strong></span>
LOCATION:
UID:e.125.4739
SEQUENCE:3
DTSTAMP:20260421T173831Z
URL:https://members.tooelechamber.com/events/details/stansbury-park-improvement-district-board-meetings-03-20-2012-4739
END:VEVENT

END:VCALENDAR
