BEGIN:VCALENDAR
VERSION:2.0
PRODID:-//ChamberMaster//Event Calendar 2.0//EN
METHOD:PUBLISH
X-PUBLISHED-TTL:P3D
REFRESH-INTERVAL:P3D
CALSCALE:GREGORIAN
BEGIN:VEVENT
DTSTART:20121120T230000Z
DTEND:20121121T000000Z
X-MICROSOFT-CDO-ALLDAYEVENT:FALSE
SUMMARY:Stansbury Park Improvement District Board Meetings
DESCRIPTION:Stansbury Park Improvement District\n\nBoard Meetings\n\n4-5 p.m.\n\n30 Plaza\, Stansbury Park
X-ALT-DESC;FMTTYPE=text/html:<strong><span style="font-size: 20px">Stansbury Park Improvement District<br />\nBoard Meetings<br />\n4-5 p.m.<br />\n30 Plaza\, Stansbury Park</span></strong><br />\n
LOCATION:
UID:e.125.4763
SEQUENCE:3
DTSTAMP:20260421T032155Z
URL:https://members.tooelechamber.com/events/details/stansbury-park-improvement-district-board-meetings-11-20-2012-4763
END:VEVENT

END:VCALENDAR
