BEGIN:VCALENDAR
VERSION:2.0
PRODID:-//ChamberMaster//Event Calendar 2.0//EN
METHOD:PUBLISH
X-PUBLISHED-TTL:P3D
REFRESH-INTERVAL:P3D
CALSCALE:GREGORIAN
BEGIN:VEVENT
DTSTART:20120126T020000Z
DTEND:20120126T030000Z
X-MICROSOFT-CDO-ALLDAYEVENT:FALSE
SUMMARY:Stansbury Service Agency Board Meetings
DESCRIPTION:Stansbury Service Agency\n\n	Board Meetings\n\n	7-8 p.m.\n\n	1 Country Club
X-ALT-DESC;FMTTYPE=text/html:<p>\n	<strong><span style="font-size: 20px">Stansbury Service Agency<br />\n	Board Meetings<br />\n	7-8 p.m.<br />\n	1 Country Club</span></strong></p>\n
LOCATION:
UID:e.125.4732
SEQUENCE:3
DTSTAMP:20260421T203404Z
URL:https://members.tooelechamber.com/events/details/stansbury-service-agency-board-meetings-01-25-2012-4732
END:VEVENT

END:VCALENDAR
