BEGIN:VCALENDAR
VERSION:2.0
PRODID:-//ChamberMaster//Event Calendar 2.0//EN
METHOD:PUBLISH
X-PUBLISHED-TTL:P3D
REFRESH-INTERVAL:P3D
CALSCALE:GREGORIAN
BEGIN:VEVENT
DTSTART:20120223T020000Z
DTEND:20120223T030000Z
X-MICROSOFT-CDO-ALLDAYEVENT:FALSE
SUMMARY:Stansbury Service Agency Board Meetings
DESCRIPTION:Stansbury Service Agency\n\nBoard Meetings\n\n7-8 p.m.\n\n1 Country Club\, Stansbury Park
X-ALT-DESC;FMTTYPE=text/html:<strong><span style="font-size: 20px">Stansbury Service Agency<br />\nBoard Meetings<br />\n7-8 p.m.<br />\n1 Country Club\, Stansbury Park</span></strong>
LOCATION:
UID:e.125.4735
SEQUENCE:3
DTSTAMP:20260421T190039Z
URL:https://members.tooelechamber.com/events/details/stansbury-service-agency-board-meetings-02-22-2012-4735
END:VEVENT

END:VCALENDAR
