BEGIN:VCALENDAR
VERSION:2.0
PRODID:-//ChamberMaster//Event Calendar 2.0//EN
METHOD:PUBLISH
X-PUBLISHED-TTL:P3D
REFRESH-INTERVAL:P3D
CALSCALE:GREGORIAN
BEGIN:VEVENT
DTSTART:20120315T010000Z
DTEND:20120315T020000Z
X-MICROSOFT-CDO-ALLDAYEVENT:FALSE
SUMMARY:Stansbury Service Agency Board Meetings
DESCRIPTION:Stansbury Service Agency\n\nBoard Meetings\n\n7-8 p.\,m.\n\n1 Country Club\, Stansbury Park
X-ALT-DESC;FMTTYPE=text/html:<span style="font-size: 20px"><strong>Stansbury Service Agency<br />\nBoard Meetings<br />\n7-8 p.\,m.<br />\n1 Country Club\, Stansbury Park</strong></span>
LOCATION:
UID:e.125.4737
SEQUENCE:3
DTSTAMP:20260421T173947Z
URL:https://members.tooelechamber.com/events/details/stansbury-service-agency-board-meetings-03-14-2012-4737
END:VEVENT

END:VCALENDAR
