BEGIN:VCALENDAR
VERSION:2.0
PRODID:-//ChamberMaster//Event Calendar 2.0//EN
METHOD:PUBLISH
X-PUBLISHED-TTL:P3D
REFRESH-INTERVAL:P3D
CALSCALE:GREGORIAN
BEGIN:VEVENT
DTSTART;VALUE=DATE:20080426
DTEND;VALUE=DATE:20080427
TRANSP:TRANSPARENT
X-MICROSOFT-CDO-ALLDAYEVENT:TRUE
SUMMARY:Star Party
DESCRIPTION:Star Party
X-ALT-DESC;FMTTYPE=text/html:<div>Star Party</div>
LOCATION:Stansbury Park Observatory
UID:e.125.395
SEQUENCE:3
DTSTAMP:20260424T203411Z
URL:https://members.tooelechamber.com/events/details/star-party-04-26-2008-395
END:VEVENT

END:VCALENDAR
