BEGIN:VCALENDAR
VERSION:2.0
PRODID:-//ChamberMaster//Event Calendar 2.0//EN
METHOD:PUBLISH
X-PUBLISHED-TTL:P3D
REFRESH-INTERVAL:P3D
CALSCALE:GREGORIAN
BEGIN:VEVENT
DTSTART:20131124T000000Z
DTEND:20131124T070000Z
X-MICROSOFT-CDO-ALLDAYEVENT:FALSE
SUMMARY:Stockton FD Craft Fair
DESCRIPTION:craft booths\, raffles\, and etc.  Stop by and do your holiday shopping!
X-ALT-DESC;FMTTYPE=text/html:craft booths\, raffles\, and etc.  Stop by and do your holiday shopping!
LOCATION:Fire Station
UID:e.125.5703
SEQUENCE:3
DTSTAMP:20260420T055734Z
URL:https://members.tooelechamber.com/events/details/stockton-fd-craft-fair-11-23-2013-5703
END:VEVENT

END:VCALENDAR
