BEGIN:VCALENDAR
VERSION:2.0
PRODID:-//ChamberMaster//Event Calendar 2.0//EN
METHOD:PUBLISH
X-PUBLISHED-TTL:P3D
REFRESH-INTERVAL:P3D
CALSCALE:GREGORIAN
BEGIN:VEVENT
DTSTART:20131205T230000Z
DTEND:20131206T000000Z
X-MICROSOFT-CDO-ALLDAYEVENT:FALSE
SUMMARY:Storytime
DESCRIPTION:Storytime
X-ALT-DESC;FMTTYPE=text/html:Storytime
LOCATION:Large Conference Room
UID:e.125.5449
SEQUENCE:3
DTSTAMP:20260420T034901Z
URL:https://members.tooelechamber.com/events/details/storytime-12-05-2013-5449
END:VEVENT

END:VCALENDAR
