BEGIN:VCALENDAR
VERSION:2.0
PRODID:-//ChamberMaster//Event Calendar 2.0//EN
METHOD:PUBLISH
X-PUBLISHED-TTL:P3D
REFRESH-INTERVAL:P3D
CALSCALE:GREGORIAN
BEGIN:VEVENT
DTSTART:20100921T140000Z
DTEND:20100921T200000Z
X-MICROSOFT-CDO-ALLDAYEVENT:FALSE
SUMMARY:Stylin ''N'' Successful Women in Business
DESCRIPTION:September 21\, 2010 \n\n	8am-2pm\n\n	Utah Cultural Celebration Center \n\n	 \n\n	1355 West 3100 South\n\n	West Valley City \n\n	 \n\n	Admission $25. Pre-registration is required.\n\n	 \n\n	Delightful breakfast\, decadent lunch\, and a gift bag included for all attendees!
X-ALT-DESC;FMTTYPE=text/html:<p style="text-align: center">\n	<span style="font-size: 24px">September 21\, 2010 </span></p>\n<p style="text-align: center">\n	<span style="font-size: 24px">8am-2pm<br />\n	Utah Cultural Celebration Center </span><br />\n	&nbsp\;</p>\n<p style="text-align: center">\n	<span style="font-size: 24px">1355 West 3100 South<br />\n	West Valley City </span><br />\n	&nbsp\;</p>\n<p style="text-align: center">\n	<span style="font-size: 24px">Admission $25. Pre-registration is required.</span><br />\n	&nbsp\;</p>\n<p>\n	<span style="font-size: 24px">Delightful breakfast\, decadent lunch\, and a gift bag included for all attendees!</span><br />\n	&nbsp\;</p>\n
LOCATION:
UID:e.125.3239
SEQUENCE:3
DTSTAMP:20260422T220306Z
URL:https://members.tooelechamber.com/events/details/stylin-n-successful-women-in-business-09-21-2010-3239
END:VEVENT

END:VCALENDAR
