BEGIN:VCALENDAR
VERSION:2.0
PRODID:-//ChamberMaster//Event Calendar 2.0//EN
METHOD:PUBLISH
X-PUBLISHED-TTL:P3D
REFRESH-INTERVAL:P3D
CALSCALE:GREGORIAN
BEGIN:VEVENT
DTSTART:20140716T010000Z
DTEND:20140716T023000Z
X-MICROSOFT-CDO-ALLDAYEVENT:FALSE
SUMMARY:Suicide Prevention Training
DESCRIPTION:Sign up now to save your spot!\n\nRegistration now open: (435) 843-2188
X-ALT-DESC;FMTTYPE=text/html:Sign up now to save your spot!<br />\nRegistration now open: (435) 843-2188
LOCATION:Tooel City Hall 90 N Main St\, Tooele
UID:e.125.5349
SEQUENCE:3
DTSTAMP:20260419T142357Z
URL:https://members.tooelechamber.com/events/details/suicide-prevention-training-07-15-2014-5349
END:VEVENT

END:VCALENDAR
