BEGIN:VCALENDAR
VERSION:2.0
PRODID:-//ChamberMaster//Event Calendar 2.0//EN
METHOD:PUBLISH
X-PUBLISHED-TTL:P3D
REFRESH-INTERVAL:P3D
CALSCALE:GREGORIAN
BEGIN:VEVENT
DTSTART:20140618T010000Z
DTEND:20140618T020000Z
X-MICROSOFT-CDO-ALLDAYEVENT:FALSE
SUMMARY:Suicide Prevention Training at City Hall
DESCRIPTION:
X-ALT-DESC;FMTTYPE=text/html:
LOCATION:Tooele City Hall 90 North Main Street
UID:e.125.5320
SEQUENCE:3
DTSTAMP:20260419T162617Z
URL:https://members.tooelechamber.com/events/details/suicide-prevention-training-at-city-hall-06-17-2014-5320
END:VEVENT

END:VCALENDAR
