BEGIN:VCALENDAR
VERSION:2.0
PRODID:-//ChamberMaster//Event Calendar 2.0//EN
METHOD:PUBLISH
X-PUBLISHED-TTL:P3D
REFRESH-INTERVAL:P3D
CALSCALE:GREGORIAN
BEGIN:VEVENT
DTSTART:20140521T213000Z
DTEND:20140522T003000Z
X-MICROSOFT-CDO-ALLDAYEVENT:FALSE
SUMMARY:Summer Fun for Kids Registration
DESCRIPTION:
X-ALT-DESC;FMTTYPE=text/html:
LOCATION:Tooele City Hall 90 North Main Street\, Tooele
UID:e.125.5092
SEQUENCE:3
DTSTAMP:20260419T200843Z
URL:https://members.tooelechamber.com/events/details/summer-fun-for-kids-registration-05-21-2014-5092
END:VEVENT

END:VCALENDAR
