BEGIN:VCALENDAR
VERSION:2.0
PRODID:-//ChamberMaster//Event Calendar 2.0//EN
METHOD:PUBLISH
X-PUBLISHED-TTL:P3D
REFRESH-INTERVAL:P3D
CALSCALE:GREGORIAN
BEGIN:VEVENT
DTSTART:20140620T040000Z
DTEND:20140620T050000Z
X-MICROSOFT-CDO-ALLDAYEVENT:FALSE
SUMMARY:Summer Reading Program
DESCRIPTION:Titled: "Make music\, music\, music" \nPresenter: Jessica Johnson\nMake your own instrument.
X-ALT-DESC;FMTTYPE=text/html:Titled: "Make music\, music\, music" \nPresenter: Jessica Johnson\nMake your own instrument.\n
LOCATION:
UID:e.125.5446
SEQUENCE:3
DTSTAMP:20260419T162306Z
URL:https://members.tooelechamber.com/events/details/summer-reading-program-06-19-2014-5446
END:VEVENT

END:VCALENDAR
