BEGIN:VCALENDAR
VERSION:2.0
PRODID:-//ChamberMaster//Event Calendar 2.0//EN
METHOD:PUBLISH
X-PUBLISHED-TTL:P3D
REFRESH-INTERVAL:P3D
CALSCALE:GREGORIAN
BEGIN:VEVENT
DTSTART:20140801T040000Z
DTEND:20140801T050000Z
X-MICROSOFT-CDO-ALLDAYEVENT:FALSE
SUMMARY:Summer Reading Program
DESCRIPTION:Titled: â??Kitchen Science" : Summer Reading Program Finale/Party\nPresenters: Taylor Palmer\, Tooele County Health Dept. \n                   Cindi Kirk\, Dominos Pizza
X-ALT-DESC;FMTTYPE=text/html:Titled: â??Kitchen Science" : Summer Reading Program Finale/Party\nPresenters: Taylor Palmer\, Tooele County Health Dept. \n                   Cindi Kirk\, Dominos Pizza\n
LOCATION:
UID:e.125.5442
SEQUENCE:3
DTSTAMP:20260419T142158Z
URL:https://members.tooelechamber.com/events/details/summer-reading-program-07-31-2014-5442
END:VEVENT

END:VCALENDAR
