BEGIN:VCALENDAR
VERSION:2.0
PRODID:-//ChamberMaster//Event Calendar 2.0//EN
METHOD:PUBLISH
X-PUBLISHED-TTL:P3D
REFRESH-INTERVAL:P3D
CALSCALE:GREGORIAN
BEGIN:VEVENT
DTSTART;VALUE=DATE:20140602
DTEND;VALUE=DATE:20140603
TRANSP:TRANSPARENT
X-MICROSOFT-CDO-ALLDAYEVENT:TRUE
SUMMARY:Summer Reading Program "Fizz\, Boom\, Read" begins at the Tooele City Library
DESCRIPTION:Earn  Prizes for Reading\n\nStarts June 2nd \n\nEnds August 2nd
X-ALT-DESC;FMTTYPE=text/html:Earn &nbsp\;Prizes for Reading<br />\nStarts June 2nd&nbsp\;<br />\nEnds August 2nd
LOCATION:
UID:e.125.5107
SEQUENCE:3
DTSTAMP:20260419T162843Z
URL:https://members.tooelechamber.com/events/details/summer-reading-program-fizz-boom-read-begins-at-the-tooele-city-library-06-02-2014-5107
END:VEVENT

END:VCALENDAR
