BEGIN:VCALENDAR
VERSION:2.0
PRODID:-//ChamberMaster//Event Calendar 2.0//EN
METHOD:PUBLISH
X-PUBLISHED-TTL:P3D
REFRESH-INTERVAL:P3D
CALSCALE:GREGORIAN
BEGIN:VEVENT
DTSTART:20110420T180000Z
DTEND:20110420T190000Z
X-MICROSOFT-CDO-ALLDAYEVENT:FALSE
SUMMARY:Support Wrapping for Ankles\, Wrists\, & Knees
DESCRIPTION:Mini-Lesson\n\n	Lunch N Learn Series\n\n	Presented by: Tooele Applied Technology College\n\n	66 West Vine Street\, Tooele\n\n	Free to the public\, includes pizza lunch!\n\n	Limited seating\, RSVP's accepted for accurate lunch count\n\n	 Support Wrapping for Ankles\, Wrists\, and Knees\n\n	with Suzette Rydalch\n\n	Learn the Basics in supporting and stablizing ankles\, wrists\, and knees for outdoor activities.
X-ALT-DESC;FMTTYPE=text/html:<p style="text-align: center">\n	<span style="font-size: 18px">Mini-Lesson<br />\n	Lunch N Learn Series<br />\n	Presented by: Tooele Applied Technology College<br />\n	66 West Vine Street\, Tooele<br />\n	Free to the public\, includes pizza lunch!<br />\n	Limited seating\, RSVP&#39\;s accepted for accurate lunch count<br />\n	<span _fck_bookmark="1" style="display: none">&nbsp\;</span>Support Wrapping for Ankles\, Wrists\, and Knees<br />\n	with Suzette Rydalch<br />\n	Learn the Basics in supporting and stablizing ankles\, wrists\, and knees for outdoor activities. </span></p>\n
LOCATION:
UID:e.125.3586
SEQUENCE:3
DTSTAMP:20260422T104349Z
URL:https://members.tooelechamber.com/events/details/support-wrapping-for-ankles-wrists-knees-04-20-2011-3586
END:VEVENT

END:VCALENDAR
