BEGIN:VCALENDAR
VERSION:2.0
PRODID:-//ChamberMaster//Event Calendar 2.0//EN
METHOD:PUBLISH
X-PUBLISHED-TTL:P3D
REFRESH-INTERVAL:P3D
CALSCALE:GREGORIAN
BEGIN:VEVENT
DTSTART;VALUE=DATE:20140524
DTEND;VALUE=DATE:20140525
TRANSP:TRANSPARENT
X-MICROSOFT-CDO-ALLDAYEVENT:TRUE
SUMMARY:"Take 25" Child ID Kit Event
DESCRIPTION:
X-ALT-DESC;FMTTYPE=text/html:
LOCATION:Tooele City Library 128 West Vine Street\, Tooele
UID:e.125.5094
SEQUENCE:3
DTSTAMP:20260419T181527Z
URL:https://members.tooelechamber.com/events/details/take-25-child-id-kit-event-05-24-2014-5094
END:VEVENT

END:VCALENDAR
