BEGIN:VCALENDAR
VERSION:2.0
PRODID:-//ChamberMaster//Event Calendar 2.0//EN
METHOD:PUBLISH
X-PUBLISHED-TTL:P3D
REFRESH-INTERVAL:P3D
CALSCALE:GREGORIAN
BEGIN:VEVENT
DTSTART;VALUE=DATE:20120915
DTEND;VALUE=DATE:20120916
TRANSP:TRANSPARENT
X-MICROSOFT-CDO-ALLDAYEVENT:TRUE
SUMMARY:TATC - ATV Ride
DESCRIPTION:TATC - ATV Ride\n\n2nd Annual ATV/UTV Round Up\n\n\n\nTATC'S SCHOLARSHIP FUNDRAISER\n\n\n\nSEPTEMBER 15\,2012\n\n\n\nCOME AND ENJOY THE DAY:\n\nSIGN IN & BREAKFAST: 7:30AM\n\nTRAIL RIDES: 10:00 AM\n\nBBQ & FESTIVITIES: 2:00PM\n\n\n\nTICKETS STARTING AT $25.00\n\nRIDE SELECTIONS IS FIRST COME FIRST SERVE.\n\n\n\nFOR MORE INFORMATION AND REGISTRATION FORMS PLEASE GO TO THE TATC'S WEBSITE AT: WWW.TATC.EDU OR CALL (435)248-1800
X-ALT-DESC;FMTTYPE=text/html:<span style="font-size: 20px"><strong>TATC - ATV Ride<br />\n2nd Annual ATV/UTV Round Up<br />\n<br />\nTATC&#39\;S SCHOLARSHIP FUNDRAISER<br />\n<br />\nSEPTEMBER 15\,2012<br />\n<br />\n<u>COME AND ENJOY THE DAY:</u><br />\nSIGN IN &amp\; BREAKFAST: 7:30AM<br />\nTRAIL RIDES: 10:00 AM<br />\nBBQ &amp\; FESTIVITIES: 2:00PM<br />\n<br />\nTICKETS STARTING AT $25.00<br />\nRIDE SELECTIONS IS FIRST COME FIRST SERVE.<br />\n<br />\nFOR MORE INFORMATION AND REGISTRATION FORMS PLEASE GO TO THE TATC&#39\;S WEBSITE AT: WWW.TATC.EDU OR CALL (435)248-1800</strong></span><br />\n
LOCATION:
UID:e.125.4662
SEQUENCE:3
DTSTAMP:20260421T071024Z
URL:https://members.tooelechamber.com/events/details/tatc-atv-ride-09-15-2012-4662
END:VEVENT

END:VCALENDAR
