BEGIN:VCALENDAR
VERSION:2.0
PRODID:-//ChamberMaster//Event Calendar 2.0//EN
METHOD:PUBLISH
X-PUBLISHED-TTL:P3D
REFRESH-INTERVAL:P3D
CALSCALE:GREGORIAN
BEGIN:VEVENT
DTSTART:20110408T190000Z
DTEND:20110408T210000Z
X-MICROSOFT-CDO-ALLDAYEVENT:FALSE
SUMMARY:TATC First Aid Basics Class
DESCRIPTION:Learn how to perform basic first aid in relieving chocking\, treating burns\, cuts\, sprains\, and recognizing strokes\, allergic reactions and heart attacks.
X-ALT-DESC;FMTTYPE=text/html:Learn how to perform basic first aid in relieving chocking\, treating burns\, cuts\, sprains\, and recognizing strokes\, allergic reactions and heart attacks.&nbsp\; 
LOCATION:Tooele Applied Technology College 66 West Vine Street Tooele
UID:e.125.3644
SEQUENCE:3
DTSTAMP:20260422T110255Z
URL:https://members.tooelechamber.com/events/details/tatc-first-aid-basics-class-04-08-2011-3644
END:VEVENT

END:VCALENDAR
