BEGIN:VCALENDAR
VERSION:2.0
PRODID:-//ChamberMaster//Event Calendar 2.0//EN
METHOD:PUBLISH
X-PUBLISHED-TTL:P3D
REFRESH-INTERVAL:P3D
CALSCALE:GREGORIAN
BEGIN:VEVENT
DTSTART;VALUE=DATE:20110924
DTEND;VALUE=DATE:20110925
TRANSP:TRANSPARENT
X-MICROSOFT-CDO-ALLDAYEVENT:TRUE
SUMMARY:TATC First Annual ATV Round-up
DESCRIPTION:Tooele Applied Technology College\n\n	First Annual Tooele ATV Round-up\n\n	Contact: 435-248-1802 or www.tatc.edu
X-ALT-DESC;FMTTYPE=text/html:<p style="text-align: center">\n	<span style="font-size: 20px">Tooele Applied Technology College<br />\n	First Annual Tooele ATV Round-up<br />\n	Contact: 435-248-1802 or <a href="http://www.tatc.edu">www.tatc.edu</a></span></p>\n
LOCATION:
UID:e.125.3538
SEQUENCE:3
DTSTAMP:20260422T043752Z
URL:https://members.tooelechamber.com/events/details/tatc-first-annual-atv-round-up-09-24-2011-3538
END:VEVENT

END:VCALENDAR
