BEGIN:VCALENDAR
VERSION:2.0
PRODID:-//ChamberMaster//Event Calendar 2.0//EN
METHOD:PUBLISH
X-PUBLISHED-TTL:P3D
REFRESH-INTERVAL:P3D
CALSCALE:GREGORIAN
BEGIN:VEVENT
DTSTART:20110326T160000Z
DTEND:20110326T203000Z
X-MICROSOFT-CDO-ALLDAYEVENT:FALSE
SUMMARY:TATC Photoshop Elements Class
DESCRIPTION:Through a task-oriented\, step-by-step approach\, students will learn the basics of importing\, sorting\, tagging\, enhancing and creating albums using Photoshop Elemtments 9. This 8 hour workshop will provide students with the basic photo editing skills needed to turn pictures into creative images.
X-ALT-DESC;FMTTYPE=text/html:Through a task-oriented\, step-by-step approach\, students will learn the basics of importing\, sorting\, tagging\, enhancing and creating albums using Photoshop Elemtments 9. This 8 hour workshop will provide students with the basic photo editing skills needed to turn pictures into creative images.
LOCATION:Tooele Applied Technology College 66 West Vine Street Tooele
UID:e.125.3647
SEQUENCE:3
DTSTAMP:20260422T121754Z
URL:https://members.tooelechamber.com/events/details/tatc-photoshop-elements-class-03-26-2011-3647
END:VEVENT

END:VCALENDAR
