BEGIN:VCALENDAR
VERSION:2.0
PRODID:-//ChamberMaster//Event Calendar 2.0//EN
METHOD:PUBLISH
X-PUBLISHED-TTL:P3D
REFRESH-INTERVAL:P3D
CALSCALE:GREGORIAN
BEGIN:VEVENT
DTSTART:20130605T170000Z
DTEND:20130605T180000Z
X-MICROSOFT-CDO-ALLDAYEVENT:FALSE
SUMMARY:TATC Ribbon Cutting
DESCRIPTION:TATC Ribbon Cutting\n\nCome help Celebrate the TATC's new location\n\n88 South Tooele Blvd\, Tooele\n\n1 pm-3:30 pm
X-ALT-DESC;FMTTYPE=text/html:<span style="font-size: 24px">TATC Ribbon Cutting<br />\nCome help Celebrate the TATC&#39\;s new location<br />\n88 South Tooele Blvd\, Tooele<br />\n1 pm-3:30 pm</span>
LOCATION:
UID:e.125.4994
SEQUENCE:3
DTSTAMP:20260420T144900Z
URL:https://members.tooelechamber.com/events/details/tatc-ribbon-cutting-06-05-2013-4994
END:VEVENT

END:VCALENDAR
