BEGIN:VCALENDAR
VERSION:2.0
PRODID:-//ChamberMaster//Event Calendar 2.0//EN
METHOD:PUBLISH
X-PUBLISHED-TTL:P3D
REFRESH-INTERVAL:P3D
CALSCALE:GREGORIAN
BEGIN:VEVENT
DTSTART:20140604T070000Z
DTEND:20140604T080000Z
X-MICROSOFT-CDO-ALLDAYEVENT:FALSE
SUMMARY:TC United Soccer Parent Meeting
DESCRIPTION:
X-ALT-DESC;FMTTYPE=text/html:
LOCATION:
UID:e.125.5441
SEQUENCE:3
DTSTAMP:20260419T182026Z
URL:https://members.tooelechamber.com/events/details/tc-united-soccer-parent-meeting-06-04-2014-5441
END:VEVENT

END:VCALENDAR
