BEGIN:VCALENDAR
VERSION:2.0
PRODID:-//ChamberMaster//Event Calendar 2.0//EN
METHOD:PUBLISH
X-PUBLISHED-TTL:P3D
REFRESH-INTERVAL:P3D
CALSCALE:GREGORIAN
BEGIN:VEVENT
DTSTART:20090513T231500Z
DTEND:20090515T023000Z
X-MICROSOFT-CDO-ALLDAYEVENT:FALSE
SUMMARY:TC United Soccer Tryouts
DESCRIPTION:Soccer Try Outs Set for May 13 & 14 @Deseret Peak Soccer FieldsTC United Competition and X League are a Utah Youth Soccer\, US Soccer and US Youth Soccer National Programs designed to develop talented youth soccer players throughout the community to represent their Club at the highest-level of soccer competition. Tryouts will generally consist of phases of the game assessed by TC United Club Coaching Staff who organize players into groups in order to evaluate the components of the game. Players may be added to the team's pool at any time from coaching recommendations and thescouting of games. The TC United Competition and X League are serious programs. Parents and players should be committed to all phases. Technical\, Tactical\, Physical\, and Psychological  TC United Competition/X-League Try  outs: May 13 & 14 2009Times are set for both days.Check in will be from 5:15 PM   5:45 PMTry outs will be from 6 PM - 8:30 PMLocation will be Deseret Peak Soccer ComplexRegistration forms are online at www.tcunited.org under the competition link. Please bring with you to the try outs.Any questions please contact Mike Keil at 435.840.4712.
X-ALT-DESC;FMTTYPE=text/html:<div><font face="ArialMT" size="5"><font face="ArialMT" size="5"><p align="center"><font size="3">Soccer Try Outs Set for May 13 &amp\; 14 @</font></p><p align="center"><font size="3">Deseret Peak Soccer Fields</font></p></font></font><font face="ArialMT"><font face="ArialMT"><p align="center"><font size="3">TC United Competition and X League are a Utah Youth Soccer\, US Soccer and US </font><font size="3">Youth Soccer National Programs designed to develop talented youth soccer players </font><font size="3">throughout the community to represent their Club at the highest-level of soccer </font><font size="3">competition. Tryouts will generally consist of phases of the game assessed by TC </font><font size="3">United Club Coaching Staff who organize players into groups in order to evaluate the </font><font face="ArialMT"><font face="ArialMT"><font size="3"><font face="Times New Roman">components of the game. Players may </font>be added to the team&rsquo\;s pool at any time from coaching recommendations and thescouting of games. The TC United Competition and X League are serious programs. </font><font size="3">Parents and players should be committed to all phases. </font></font></font></p><p align="center"><font face="ArialMT"><font face="ArialMT"><font size="3">Technical\, Tactical\, Physical\, and Psychological&nbsp\;</font></font></font></p></font></font>&nbsp\;</div><div><font face="ArialMT"><font face="ArialMT"><font size="3"><strong><em><font face="Arial"><p align="center">TC United Competition/X-League Try &ndash\;outs: May 13 &amp\; 14 2009</p><p align="center">Times are set for both days.</p><p align="center">Check in will be from 5:15 PM &ndash\; 5:45 PM</p><p align="center">Try outs will be from 6 PM - 8:30 PM</p><p align="center">Location will be&nbsp\;Deseret Peak Soccer Complex</p><p align="center">Registration forms are online at www.tcunited.org under the competition link. Please bring with you to the try outs.</p></font><strong><font face="Arial"><p align="center">Any questions please contact Mike Keil at 435.840.4712.</p></font></strong></em></strong></font></font></font></div><p>&nbsp\;</p><p align="center">&nbsp\;</p>
LOCATION:
UID:e.125.2522
SEQUENCE:3
DTSTAMP:20260423T232159Z
URL:https://members.tooelechamber.com/events/details/tc-united-soccer-tryouts-05-13-2009-2522
END:VEVENT

END:VCALENDAR
