BEGIN:VCALENDAR
VERSION:2.0
PRODID:-//ChamberMaster//Event Calendar 2.0//EN
METHOD:PUBLISH
X-PUBLISHED-TTL:P3D
REFRESH-INTERVAL:P3D
CALSCALE:GREGORIAN
BEGIN:VEVENT
DTSTART:20091213T020000Z
DTEND:20091213T040000Z
X-MICROSOFT-CDO-ALLDAYEVENT:FALSE
SUMMARY:The Crescent Super Band
DESCRIPTION:The Crescent Super BandSaturday\, December 12thTooele High School AuditoriumCost is one can of food(to be donated to the local food bank)Tickets can be purchased at Tooele City Hall90 North Main Street
X-ALT-DESC;FMTTYPE=text/html:<div align="center"><font size="5">The Crescent Super Band</font></div><div align="center"><font size="5">Saturday\, December 12th</font></div><div align="center"><font size="5">Tooele High School Auditorium</font></div><div align="center"><font size="5">Cost is one can of food</font></div><div align="center"><font size="5">(to be donated to the local food bank)</font></div><div align="center"><font size="5">Tickets can be purchased at </font></div><div align="center"><font size="5">Tooele City Hall</font></div><div align="center"><font size="5">90 North Main Street</font></div>
LOCATION:
UID:e.125.488
SEQUENCE:3
DTSTAMP:20260423T120545Z
URL:https://members.tooelechamber.com/events/details/the-crescent-super-band-12-12-2009-488
END:VEVENT

END:VCALENDAR
