BEGIN:VCALENDAR
VERSION:2.0
PRODID:-//ChamberMaster//Event Calendar 2.0//EN
METHOD:PUBLISH
X-PUBLISHED-TTL:P3D
REFRESH-INTERVAL:P3D
CALSCALE:GREGORIAN
BEGIN:VEVENT
DTSTART:20130125T023000Z
DTEND:20130125T040000Z
X-MICROSOFT-CDO-ALLDAYEVENT:FALSE
SUMMARY:The Jordan World Circus
DESCRIPTION:JORDAN WORLD CIRCUS\n\n	 \n\n	Tooele * Deseret Peak Complex\n\n	Thurs. Jan. 24th  7:30 Only\n\n	 \n\n	TICKETS AVAILABLE\n\n	 THEJORDANWORLDCIRCUS.COM \n\n	FaceBook: TheJordan WorldCircus\n\n	                \n\n	Tickets available Now at  www.thejordanworldcircus.com\n\n	Circus box office day of show $16.00 * Children $12.00\n\n	Look for you free kids tickets at your Area Merchants
X-ALT-DESC;FMTTYPE=text/html:<p align="center" class="MsoNormal" style="text-align: center\; mso-pagination: none">\n	<b><span style="font-family: 'copperplate gothic light'\; font-size: 14pt">JORDAN WORLD CIRCUS<o:p></o:p></span></b></p>\n<p align="center" class="MsoNormal" style="text-align: center\; margin-right: 4.5pt">\n	&nbsp\;</p>\n<p align="center" class="MsoNormal" style="text-align: center">\n	<strong><span style="background: yellow\; color: red\; font-size: 16pt\; mso-highlight: yellow">Tooele * Deseret Peak Complex<o:p></o:p></span></strong></p>\n<p align="center" class="MsoNormal" style="text-align: center">\n	<strong><span style="background: yellow\; color: red\; font-size: 16pt\; mso-highlight: yellow">Thurs. Jan. 24th&nbsp\; 7:30 Only<o:p></o:p></span></strong></p>\n<p align="center" class="MsoNormal" style="text-align: center\; margin-right: 4.5pt">\n	<b><span style="font-size: 14pt">&nbsp\;</span></b></p>\n<p align="center" class="MsoNormal" style="text-align: center\; mso-pagination: none\; mso-outline-level: 1">\n	<b>TICKETS AVAILABLE<o:p></o:p></b></p>\n<p align="center" class="MsoNormal" style="text-align: center\; mso-pagination: none\; mso-outline-level: 1">\n	<b>&nbsp\;<a href="http://www.thejordanworldcircus.com/">THEJORDANWORLDCIRCUS.COM</a></b><b><span style="font-size: 14pt"> <o:p></o:p></span></b></p>\n<p align="center" class="MsoNormal" style="text-align: center\; mso-pagination: none\; mso-outline-level: 1">\n	<b><span style="font-size: 14pt">FaceBook: TheJordan WorldCircus</span></b></p>\n<p class="MsoNormal">\n	<b>&nbsp\;&nbsp\;&nbsp\;&nbsp\;&nbsp\;&nbsp\;&nbsp\;&nbsp\;&nbsp\;&nbsp\;&nbsp\;&nbsp\;&nbsp\;&nbsp\;&nbsp\; <o:p></o:p></b></p>\n<p align="center" class="MsoNormal" style="text-align: center\; mso-pagination: none">\n	<b><i><span style="font-size: 14pt">Tickets available Now at&nbsp\; <span style="color: #000099"><span style="color: #000099"><span style="color: #000099"><span style="color: #000099"><span style="color: #000099"><span style="color: #000099"><span style="color: #000099"><span style="color: #000099"><a href="http://www.thejordanworldcircus.com/"><span style="color: #000099">www.thejordanworldcircus.com</span></a></span></span></span></span></span></span></span></span><o:p></o:p></span></i></b></p>\n<p align="center" class="MsoNormal" style="text-align: center\; mso-pagination: none">\n	<b><i><span style="font-size: 14pt">Circus box office day of show $16.00 * Children $12.00<o:p></o:p></span></i></b></p>\n<p align="center" class="MsoNormal" style="text-align: center\; mso-pagination: none">\n	<b><i><span style="font-size: 14pt">Look for you free kids tickets at your Area Merchants<o:p></o:p></span></i></b></p>\n
LOCATION:DESERET PEAK COMPLEX
UID:e.125.4961
SEQUENCE:3
DTSTAMP:20260421T013652Z
URL:https://members.tooelechamber.com/events/details/the-jordan-world-circus-01-24-2013-4961
END:VEVENT

END:VCALENDAR
