BEGIN:VCALENDAR
VERSION:2.0
PRODID:-//ChamberMaster//Event Calendar 2.0//EN
METHOD:PUBLISH
X-PUBLISHED-TTL:P3D
REFRESH-INTERVAL:P3D
CALSCALE:GREGORIAN
BEGIN:VEVENT
DTSTART:20140124T020000Z
DTEND:20140124T040000Z
X-MICROSOFT-CDO-ALLDAYEVENT:FALSE
SUMMARY:The Jordan World Circus 2014
DESCRIPTION:Tooele * Deseret Peak Complex Thurs. Jan. 23rd 7:00 Only **Free Children Tickets on our Webpage www.thejordanworldcircus.com ** FaceBook: The Jordan World Circus **Visit our Facebook Fan Page for 'Special Holiday Promotions in your area'**
X-ALT-DESC;FMTTYPE=text/html:Tooele * Deseret Peak Complex Thurs. Jan. 23rd 7:00 Only **Free Children Tickets on our Webpage www.thejordanworldcircus.com ** FaceBook: The Jordan World Circus **Visit our Facebook Fan Page for &#39\;Special Holiday Promotions in your area&#39\;** 
LOCATION:Deseret Peak Complex 2930 West Hwy 112 Tooele\, UT 84074
UID:e.125.5059
SEQUENCE:3
DTSTAMP:20260420T015028Z
URL:https://members.tooelechamber.com/events/details/the-jordan-world-circus-2014-01-23-2014-5059
END:VEVENT

END:VCALENDAR
