BEGIN:VCALENDAR
VERSION:2.0
PRODID:-//ChamberMaster//Event Calendar 2.0//EN
METHOD:PUBLISH
X-PUBLISHED-TTL:P3D
REFRESH-INTERVAL:P3D
CALSCALE:GREGORIAN
BEGIN:VEVENT
DTSTART:20080427T010000Z
DTEND:20080426T180000Z
X-MICROSOFT-CDO-ALLDAYEVENT:FALSE
SUMMARY:The Kawz Concert
DESCRIPTION:To benefit the homeless in Tooele CountyRock-N-Roll from the HeartSponsored by The Tooele County Board of Realtors
X-ALT-DESC;FMTTYPE=text/html:<div>To benefit the homeless in Tooele County</div><div>Rock-N-Roll from the Heart</div><div>Sponsored by The Tooele County Board of Realtors</div>
LOCATION:Tooele High School Auditorium301 W. Vine St.\, Tooele
UID:e.125.374
SEQUENCE:3
DTSTAMP:20260424T203532Z
URL:https://members.tooelechamber.com/events/details/the-kawz-concert-04-26-2008-374
END:VEVENT

END:VCALENDAR
