BEGIN:VCALENDAR
VERSION:2.0
PRODID:-//ChamberMaster//Event Calendar 2.0//EN
METHOD:PUBLISH
X-PUBLISHED-TTL:P3D
REFRESH-INTERVAL:P3D
CALSCALE:GREGORIAN
BEGIN:VEVENT
DTSTART:20140627T140000Z
DTEND:20140627T180000Z
X-MICROSOFT-CDO-ALLDAYEVENT:FALSE
SUMMARY:The Mayor's Annual Spring Benefit golf Tournament at Oquirrh Hills Golf course
DESCRIPTION:
X-ALT-DESC;FMTTYPE=text/html:
LOCATION:
UID:e.125.5331
SEQUENCE:3
DTSTAMP:20260419T162917Z
URL:https://members.tooelechamber.com/events/details/the-mayor-s-annual-spring-benefit-golf-tournament-at-oquirrh-hills-golf-course-06-27-2014-5331
END:VEVENT

END:VCALENDAR
