BEGIN:VCALENDAR
VERSION:2.0
PRODID:-//ChamberMaster//Event Calendar 2.0//EN
METHOD:PUBLISH
X-PUBLISHED-TTL:P3D
REFRESH-INTERVAL:P3D
CALSCALE:GREGORIAN
BEGIN:VEVENT
DTSTART:20090923T000000Z
DTEND:20090923T020000Z
X-MICROSOFT-CDO-ALLDAYEVENT:FALSE
SUMMARY:Tip Top Computers
DESCRIPTION:Tip Top Computers Grand Opening and Ribbon Cutting
X-ALT-DESC;FMTTYPE=text/html:<div>Tip Top Computers Grand Opening and Ribbon Cutting</div>
LOCATION:19 East Vine Tooele Utah
UID:e.125.2571
SEQUENCE:3
DTSTAMP:20260423T180417Z
URL:https://members.tooelechamber.com/events/details/tip-top-computers-09-22-2009-2571
END:VEVENT

END:VCALENDAR
