BEGIN:VCALENDAR
VERSION:2.0
PRODID:-//ChamberMaster//Event Calendar 2.0//EN
METHOD:PUBLISH
X-PUBLISHED-TTL:P3D
REFRESH-INTERVAL:P3D
CALSCALE:GREGORIAN
BEGIN:VEVENT
DTSTART:20121027T190000Z
DTEND:20121027T220000Z
X-MICROSOFT-CDO-ALLDAYEVENT:FALSE
SUMMARY:Together With Youth Family Halloween Carnival
DESCRIPTION:Annual Together With Youth Family Halloween Carnival. Food\, games\, fortune telling\, cookie decorating\, costume parade and much\, much more!!
X-ALT-DESC;FMTTYPE=text/html:Annual Together With Youth Family Halloween Carnival. Food\, games\, fortune telling\, cookie decorating\, costume parade and much\, much more!!
LOCATION:350 W. 400 N. \, Tooele\, Utah
UID:e.125.4884
SEQUENCE:3
DTSTAMP:20260421T052906Z
URL:https://members.tooelechamber.com/events/details/together-with-youth-family-halloween-carnival-10-27-2012-4884
END:VEVENT

END:VCALENDAR
