BEGIN:VCALENDAR
VERSION:2.0
PRODID:-//ChamberMaster//Event Calendar 2.0//EN
METHOD:PUBLISH
X-PUBLISHED-TTL:P3D
REFRESH-INTERVAL:P3D
CALSCALE:GREGORIAN
BEGIN:VEVENT
DTSTART:20110910T140000Z
DTEND:20110910T170000Z
X-MICROSOFT-CDO-ALLDAYEVENT:FALSE
SUMMARY:Tooele 10K
DESCRIPTION:This is a beautiful fall canyon run down Middle Canyon.  It is a great course for both beginning racers and also expert racers.  Nice shirts are included with the registration fee.  Early bird registration special go until May 31st.  There will be drawings for all finishers as well as awards for the top 3 finishers.  check out the website http://www.racetooele.com.
X-ALT-DESC;FMTTYPE=text/html:This is a beautiful fall canyon run down Middle Canyon.  It is a great course for both beginning racers and also expert racers.  Nice shirts are included with the registration fee.  Early bird registration special go until May 31st.  There will be drawings for all finishers as well as awards for the top 3 finishers.  check out the website http://www.racetooele.com.  
LOCATION:Middle Canyon\, Tooele\, UT
UID:e.125.3650
SEQUENCE:3
DTSTAMP:20260422T043611Z
URL:https://members.tooelechamber.com/events/details/tooele-10k-09-10-2011-3650
END:VEVENT

END:VCALENDAR
