BEGIN:VCALENDAR
VERSION:2.0
PRODID:-//ChamberMaster//Event Calendar 2.0//EN
METHOD:PUBLISH
X-PUBLISHED-TTL:P3D
REFRESH-INTERVAL:P3D
CALSCALE:GREGORIAN
BEGIN:VEVENT
DTSTART:20110723T140000Z
DTEND:20110723T160000Z
X-MICROSOFT-CDO-ALLDAYEVENT:FALSE
SUMMARY:Tooele 5K
DESCRIPTION:3rd Annual Tooele 5K Run\, Walk\, or Stroll.  Start your Pioneer Day celebrations off with a race.  2 weeks after the Independence Day 5K\, this event will keep you feeling fit throughout the summer.  Runners\, walkers\, and strollers of all ages welcome.  All proceeds will benefit the Alport Syndrome Foundation.
X-ALT-DESC;FMTTYPE=text/html:3rd Annual Tooele 5K Run\, Walk\, or Stroll.  Start your Pioneer Day celebrations off with a race.  2 weeks after the Independence Day 5K\, this event will keep you feeling fit throughout the summer.  Runners\, walkers\, and strollers of all ages welcome.  All proceeds will benefit the Alport Syndrome Foundation.
LOCATION:England Acres Park in Tooele\, UT - check-in at the pavilion located approximately 400 East and 850 North.
UID:e.125.3658
SEQUENCE:3
DTSTAMP:20260422T060115Z
URL:https://members.tooelechamber.com/events/details/tooele-5k-07-23-2011-3658
END:VEVENT

END:VCALENDAR
