BEGIN:VCALENDAR
VERSION:2.0
PRODID:-//ChamberMaster//Event Calendar 2.0//EN
METHOD:PUBLISH
X-PUBLISHED-TTL:P3D
REFRESH-INTERVAL:P3D
CALSCALE:GREGORIAN
BEGIN:VEVENT
DTSTART:20120321T200000Z
DTEND:20120321T213000Z
X-MICROSOFT-CDO-ALLDAYEVENT:FALSE
SUMMARY:Tooele Applied Technology College/USU Tooele GroundBreaking Ceremony
DESCRIPTION:TATC Groundbreaking\n\nWed. March 21\,2012\n\n2pm\n\n to be held west of Utah State University Tooele Campus (west end of Vine Street) and south of Christensen and Griffith.
X-ALT-DESC;FMTTYPE=text/html:<span style="font-size: 22px">TATC Groundbreaking<br />\n<font size="5">Wed. March 21\,2012<br />\n2pm</font><br />\n<span _fck_bookmark="1" style="display: none">&nbsp\;</span>to be held west of Utah State University Tooele Campus (west end of Vine Street) and south of Christensen and Griffith.</span><br />\n
LOCATION:
UID:e.125.4804
SEQUENCE:3
DTSTAMP:20260421T174004Z
URL:https://members.tooelechamber.com/events/details/tooele-applied-technology-college-usu-tooele-groundbreaking-ceremony-03-21-2012-4804
END:VEVENT

END:VCALENDAR
