BEGIN:VCALENDAR
VERSION:2.0
PRODID:-//ChamberMaster//Event Calendar 2.0//EN
METHOD:PUBLISH
X-PUBLISHED-TTL:P3D
REFRESH-INTERVAL:P3D
CALSCALE:GREGORIAN
BEGIN:VEVENT
DTSTART;VALUE=DATE:20120622
DTEND;VALUE=DATE:20120625
TRANSP:TRANSPARENT
X-MICROSOFT-CDO-ALLDAYEVENT:TRUE
SUMMARY:Tooele Arts Festival
DESCRIPTION:Tooele Arts Festival\n\n@ Tooele City Park\n\n200 West Vine Street
X-ALT-DESC;FMTTYPE=text/html:<span style="font-size: 22px">Tooele Arts Festival<br />\n@ Tooele City Park<br />\n200 West Vine Street</span>
LOCATION:
UID:e.125.4835
SEQUENCE:3
DTSTAMP:20260421T123007Z
URL:https://members.tooelechamber.com/events/details/tooele-arts-festival-06-22-2012-4835
END:VEVENT

END:VCALENDAR
