BEGIN:VCALENDAR
VERSION:2.0
PRODID:-//ChamberMaster//Event Calendar 2.0//EN
METHOD:PUBLISH
X-PUBLISHED-TTL:P3D
REFRESH-INTERVAL:P3D
CALSCALE:GREGORIAN
BEGIN:VEVENT
DTSTART;VALUE=DATE:20100625
DTEND;VALUE=DATE:20100628
TRANSP:TRANSPARENT
X-MICROSOFT-CDO-ALLDAYEVENT:TRUE
SUMMARY:Tooele Arts Festival
DESCRIPTION:Tooele Arts FestivalTooele City Park (435)882-8282www.tooeleartsfestival.com
X-ALT-DESC;FMTTYPE=text/html:<div style="text-align: center"><span style="font-size: large">Tooele Arts Festival</span></div><div style="text-align: center"><span style="font-size: large">Tooele City Park </span></div><div style="text-align: center"><span style="font-size: large">(435)882-8282</span></div><div style="text-align: center"><a href="http://www.tooeleartsfestival.com"><span style="font-size: large">www.tooeleartsfestival.com</span></a></div>
LOCATION:
UID:e.125.1004
SEQUENCE:3
DTSTAMP:20260423T031717Z
URL:https://members.tooelechamber.com/events/details/tooele-arts-festival-06-25-2010-1004
END:VEVENT

END:VCALENDAR
