BEGIN:VCALENDAR
VERSION:2.0
PRODID:-//ChamberMaster//Event Calendar 2.0//EN
METHOD:PUBLISH
X-PUBLISHED-TTL:P3D
REFRESH-INTERVAL:P3D
CALSCALE:GREGORIAN
BEGIN:VEVENT
DTSTART;VALUE=DATE:20140622
DTEND;VALUE=DATE:20140623
TRANSP:TRANSPARENT
X-MICROSOFT-CDO-ALLDAYEVENT:TRUE
SUMMARY:Tooele Arts Festival and Plein Air Art Contst at the Swimming Pool Park
DESCRIPTION:
X-ALT-DESC;FMTTYPE=text/html:
LOCATION:
UID:e.125.5324
SEQUENCE:3
DTSTAMP:20260419T163902Z
URL:https://members.tooelechamber.com/events/details/tooele-arts-festival-and-plein-air-art-contst-at-the-swimming-pool-park-06-22-2014-5324
END:VEVENT

END:VCALENDAR
